BEGIN:VCALENDAR
VERSION:2.0
PRODID:-//wp-events-plugin.com//7.2.3.1//EN
TZID:Europe/Berlin
X-WR-TIMEZONE:Europe/Berlin
BEGIN:VEVENT
UID:1354@romy-online.de
DTSTART;TZID=Europe/Berlin;VALUE=DATE:20201010
DTEND;TZID=Europe/Berlin;VALUE=DATE:20201011
DTSTAMP:20201022T095533Z
URL:https://www.romy-online.de/events/weko-taschenmodenschau-moderation-2/
SUMMARY:WEKO Taschenmodenschau - Moderation - ABGESAGT
DESCRIPTION:
CATEGORIES:Live-/TV-Auftritt
LOCATION:Weko Wohnen\, Südeinfahrt 1\, 84347\, Deutschland
GEO:48.41894;12.94733999999994
X-APPLE-STRUCTURED-LOCATION;VALUE=URI;X-ADDRESS=Südeinfahrt 1\, 84347\, De
 utschland;X-APPLE-RADIUS=100;X-TITLE=Weko Wohnen:geo:48.41894,12.947339999
 99994
END:VEVENT
BEGIN:VTIMEZONE
TZID:Europe/Berlin
X-LIC-LOCATION:Europe/Berlin
BEGIN:DAYLIGHT
DTSTART:20200329T030000
TZOFFSETFROM:+0100
TZOFFSETTO:+0200
TZNAME:CEST
END:DAYLIGHT
END:VTIMEZONE
END:VCALENDAR