BEGIN:VCALENDAR
VERSION:2.0
PRODID:-//wp-events-plugin.com//7.2.3.1//EN
TZID:Europe/Berlin
X-WR-TIMEZONE:Europe/Berlin
BEGIN:VEVENT
UID:1347@romy-online.de
DTSTART;TZID=Europe/Berlin:20201205T150000
DTEND;TZID=Europe/Berlin:20201205T180000
DTSTAMP:20201022T095147Z
URL:https://www.romy-online.de/events/weihnachtsfeierlichkeit/
SUMMARY:Weihnachtsfeierlichkeit - ABGESAGT
DESCRIPTION:
CATEGORIES:Live-/TV-Auftritt
LOCATION:Berlstedt\, Berlstedt\, Berlstedt\, Deutschland
X-APPLE-STRUCTURED-LOCATION;VALUE=URI;X-ADDRESS=Berlstedt\, Berlstedt\, Deu
 tschland;X-APPLE-RADIUS=100;X-TITLE=Berlstedt:geo:0,0
END:VEVENT
BEGIN:VTIMEZONE
TZID:Europe/Berlin
X-LIC-LOCATION:Europe/Berlin
BEGIN:STANDARD
DTSTART:20201025T020000
TZOFFSETFROM:+0200
TZOFFSETTO:+0100
TZNAME:CET
END:STANDARD
END:VTIMEZONE
END:VCALENDAR