BEGIN:VCALENDAR
VERSION:2.0
PRODID:-//wp-events-plugin.com//7.2.3.1//EN
TZID:Europe/Berlin
X-WR-TIMEZONE:Europe/Berlin
BEGIN:VEVENT
UID:1346@romy-online.de
DTSTART;TZID=Europe/Berlin:20201015T193000
DTEND;TZID=Europe/Berlin:20201015T220000
DTSTAMP:20201022T095454Z
URL:https://www.romy-online.de/events/von-bayern-bis-suedtirol-moderation/
SUMMARY:Von Bayern bis Südtirol Moderation - ABGESAGT
DESCRIPTION:
CATEGORIES:Live-/TV-Auftritt
LOCATION:Großer Kursaal\, Kurplatz\, Bad Füssing\, Deutschland
GEO:48.35214209999999;13.317376100000046
X-APPLE-STRUCTURED-LOCATION;VALUE=URI;X-ADDRESS=Kurplatz\, Bad Füssing\, D
 eutschland;X-APPLE-RADIUS=100;X-TITLE=Großer Kursaal:geo:48.3521420999999
 9,13.317376100000046
END:VEVENT
BEGIN:VTIMEZONE
TZID:Europe/Berlin
X-LIC-LOCATION:Europe/Berlin
BEGIN:DAYLIGHT
DTSTART:20200329T030000
TZOFFSETFROM:+0100
TZOFFSETTO:+0200
TZNAME:CEST
END:DAYLIGHT
END:VTIMEZONE
END:VCALENDAR