BEGIN:VCALENDAR
VERSION:2.0
PRODID:-//wp-events-plugin.com//7.2.3.1//EN
TZID:Europe/Berlin
X-WR-TIMEZONE:Europe/Berlin
BEGIN:VEVENT
UID:1352@romy-online.de
DTSTART;TZID=Europe/Berlin:20200124T183000
DTEND;TZID=Europe/Berlin:20200125T180000
DTSTAMP:20200123T101939Z
URL:https://www.romy-online.de/events/unterwegs-in-bad-fuessing-mit-tex-ro
 binson/
SUMMARY:Unterwegs in Bad Füssing mit Tex Robinson
DESCRIPTION:über Kabel um 18.30 Uhr mit stündlicher Wiederholung\n\nauf S
 atellit um 19.30 Uhr\, 20.30 Uhr\, 21.30 Uhr\, 23.30 Uhr
CATEGORIES:TV-Auftritt
LOCATION:NiederbayernTV\, NiederbayernTV\, NiederbayernTV\, Deutschland
X-APPLE-STRUCTURED-LOCATION;VALUE=URI;X-ADDRESS=NiederbayernTV\, Niederbaye
 rnTV\, Deutschland;X-APPLE-RADIUS=100;X-TITLE=NiederbayernTV:geo:0,0
END:VEVENT
BEGIN:VTIMEZONE
TZID:Europe/Berlin
X-LIC-LOCATION:Europe/Berlin
BEGIN:STANDARD
DTSTART:20191027T020000
TZOFFSETFROM:+0200
TZOFFSETTO:+0100
TZNAME:CET
END:STANDARD
END:VTIMEZONE
END:VCALENDAR