BEGIN:VCALENDAR
VERSION:2.0
PRODID:-//wp-events-plugin.com//7.2.3.1//EN
TZID:Europe/Berlin
X-WR-TIMEZONE:Europe/Berlin
BEGIN:VEVENT
UID:1250@romy-online.de
DTSTART;TZID=Europe/Berlin;VALUE=DATE:20190727
DTEND;TZID=Europe/Berlin;VALUE=DATE:20190728
DTSTAMP:20190725T141023Z
URL:https://www.romy-online.de/events/tv-sendung-rundum-gsund-in-bad-fuess
 ing/
SUMMARY:TV-Sendung "Rundum gsund in Bad Füssing"
DESCRIPTION:
CATEGORIES:TV-Auftritt
LOCATION:NiederbayernTV\, NiederbayernTV\, NiederbayernTV\, Deutschland
X-APPLE-STRUCTURED-LOCATION;VALUE=URI;X-ADDRESS=NiederbayernTV\, Niederbaye
 rnTV\, Deutschland;X-APPLE-RADIUS=100;X-TITLE=NiederbayernTV:geo:0,0
END:VEVENT
BEGIN:VTIMEZONE
TZID:Europe/Berlin
X-LIC-LOCATION:Europe/Berlin
BEGIN:DAYLIGHT
DTSTART:20190331T030000
TZOFFSETFROM:+0100
TZOFFSETTO:+0200
TZNAME:CEST
END:DAYLIGHT
END:VTIMEZONE
END:VCALENDAR