BEGIN:VCALENDAR
VERSION:2.0
PRODID:-//wp-events-plugin.com//7.2.3.1//EN
TZID:Europe/Berlin
X-WR-TIMEZONE:Europe/Berlin
BEGIN:VEVENT
UID:1444@romy-online.de
DTSTART;TZID=Europe/Berlin:20210601T201500
DTEND;TZID=Europe/Berlin:20210601T214500
DTSTAMP:20210101T134638Z
URL:https://www.romy-online.de/events/tv-sendung-herzlichst-sie-wuenschen-
 wir-spielen-moderation-2-2021-06-01/
SUMMARY:TV-Sendung Herzlichst – Sie wünschen\, wir spielen (Moderation)
DESCRIPTION:
CATEGORIES:TV-Auftritt
LOCATION:Melodie TV\, MelodieTV\, MelodieTV\, Österreich
GEO:47.2370003;10.858852599999977
X-APPLE-STRUCTURED-LOCATION;VALUE=URI;X-ADDRESS=MelodieTV\, MelodieTV\, Ös
 terreich;X-APPLE-RADIUS=100;X-TITLE=Melodie TV:geo:47.2370003,10.858852599
 999977
END:VEVENT
BEGIN:VTIMEZONE
TZID:Europe/Berlin
X-LIC-LOCATION:Europe/Berlin
BEGIN:DAYLIGHT
DTSTART:20210328T030000
TZOFFSETFROM:+0100
TZOFFSETTO:+0200
TZNAME:CEST
END:DAYLIGHT
END:VTIMEZONE
END:VCALENDAR