BEGIN:VCALENDAR
VERSION:2.0
PRODID:-//wp-events-plugin.com//7.2.3.1//EN
TZID:Europe/Berlin
X-WR-TIMEZONE:Europe/Berlin
BEGIN:VEVENT
UID:1393@romy-online.de
DTSTART;TZID=Europe/Berlin;VALUE=DATE:20201018
DTEND;TZID=Europe/Berlin;VALUE=DATE:20201019
DTSTAMP:20201023T074812Z
URL:https://www.romy-online.de/events/tv-dreh-suedtirol/
SUMMARY:TV-Dreh Südtirol
DESCRIPTION:
CATEGORIES:TV-Auftritt
END:VEVENT
BEGIN:VTIMEZONE
TZID:Europe/Berlin
X-LIC-LOCATION:Europe/Berlin
BEGIN:DAYLIGHT
DTSTART:20200329T030000
TZOFFSETFROM:+0100
TZOFFSETTO:+0200
TZNAME:CEST
END:DAYLIGHT
END:VTIMEZONE
END:VCALENDAR