BEGIN:VCALENDAR
VERSION:2.0
PRODID:-//wp-events-plugin.com//7.2.3.1//EN
TZID:Europe/Berlin
X-WR-TIMEZONE:Europe/Berlin
BEGIN:VEVENT
UID:1351@romy-online.de
DTSTART;TZID=Europe/Berlin;VALUE=DATE:20200103
DTEND;TZID=Europe/Berlin;VALUE=DATE:20200104
DTSTAMP:20200116T133002Z
URL:https://www.romy-online.de/events/tv-dreh-herzlichst-6/
SUMMARY:TV-Dreh Herzlichst
DESCRIPTION:
CATEGORIES:TV-Auftritt
END:VEVENT
BEGIN:VTIMEZONE
TZID:Europe/Berlin
X-LIC-LOCATION:Europe/Berlin
BEGIN:STANDARD
DTSTART:20191027T020000
TZOFFSETFROM:+0200
TZOFFSETTO:+0100
TZNAME:CET
END:STANDARD
END:VTIMEZONE
END:VCALENDAR