BEGIN:VCALENDAR
VERSION:2.0
PRODID:-//wp-events-plugin.com//7.2.3.1//EN
TZID:Europe/Berlin
X-WR-TIMEZONE:Europe/Berlin
BEGIN:VEVENT
UID:1359@romy-online.de
DTSTART;TZID=Europe/Berlin:20200404T000000
DTEND;TZID=Europe/Berlin:20200405T000000
DTSTAMP:20200325T091126Z
URL:https://www.romy-online.de/events/tv-dreh-fuer-herzlichst-abgesagt-2/
SUMMARY:TV- Dreh für Herzlichst - abgesagt
DESCRIPTION:
CATEGORIES:TV-Auftritt
LOCATION:Rottaler Volksfest\, P+R Anlage \, Pfarrkirchen\, 84347\, Deutschl
 and
GEO:48.41903320000001;12.93958090000001
X-APPLE-STRUCTURED-LOCATION;VALUE=URI;X-ADDRESS=P+R Anlage \, Pfarrkirchen\
 , 84347\, Deutschland;X-APPLE-RADIUS=100;X-TITLE=Rottaler Volksfest:geo:48
 .41903320000001,12.93958090000001
END:VEVENT
BEGIN:VTIMEZONE
TZID:Europe/Berlin
X-LIC-LOCATION:Europe/Berlin
BEGIN:DAYLIGHT
DTSTART:20200329T030000
TZOFFSETFROM:+0100
TZOFFSETTO:+0200
TZNAME:CEST
END:DAYLIGHT
END:VTIMEZONE
END:VCALENDAR