BEGIN:VCALENDAR
VERSION:2.0
PRODID:-//wp-events-plugin.com//7.2.3.1//EN
TZID:Europe/Berlin
X-WR-TIMEZONE:Europe/Berlin
BEGIN:VEVENT
UID:1256@romy-online.de
DTSTART;TZID=Europe/Berlin;VALUE=DATE:20190819
DTEND;TZID=Europe/Berlin;VALUE=DATE:20190821
DTSTAMP:20190725T141621Z
URL:https://www.romy-online.de/events/tv-dreh-fuer-herzlichst-36/
SUMMARY:TV-Dreh für "Herzlichst"
DESCRIPTION:
CATEGORIES:Live-/TV-Auftritt,TV-Auftritt
LOCATION:Melodie TV\, MelodieTV\, MelodieTV\, 6430\, Österreich
X-APPLE-STRUCTURED-LOCATION;VALUE=URI;X-ADDRESS=MelodieTV\, MelodieTV\, 643
 0\, Österreich;X-APPLE-RADIUS=100;X-TITLE=Melodie TV:geo:0,0
END:VEVENT
BEGIN:VTIMEZONE
TZID:Europe/Berlin
X-LIC-LOCATION:Europe/Berlin
BEGIN:DAYLIGHT
DTSTART:20190331T030000
TZOFFSETFROM:+0100
TZOFFSETTO:+0200
TZNAME:CEST
END:DAYLIGHT
END:VTIMEZONE
END:VCALENDAR