BEGIN:VCALENDAR
VERSION:2.0
PRODID:-//wp-events-plugin.com//7.2.3.1//EN
TZID:Europe/Berlin
X-WR-TIMEZONE:Europe/Berlin
BEGIN:VEVENT
UID:1519@romy-online.de
DTSTART;TZID=Europe/Berlin;VALUE=DATE:20210112
DTEND;TZID=Europe/Berlin;VALUE=DATE:20210113
DTSTAMP:20210420T105158Z
URL:https://www.romy-online.de/events/tv-dreh-5/
SUMMARY:TV-Dreh
DESCRIPTION:
CATEGORIES:TV-Auftritt
END:VEVENT
BEGIN:VTIMEZONE
TZID:Europe/Berlin
X-LIC-LOCATION:Europe/Berlin
BEGIN:STANDARD
DTSTART:20201025T020000
TZOFFSETFROM:+0200
TZOFFSETTO:+0100
TZNAME:CET
END:STANDARD
END:VTIMEZONE
END:VCALENDAR