BEGIN:VCALENDAR
VERSION:2.0
PRODID:-//wp-events-plugin.com//7.2.3.1//EN
TZID:Europe/Berlin
X-WR-TIMEZONE:Europe/Berlin
BEGIN:VEVENT
UID:1403@romy-online.de
DTSTART;TZID=Europe/Berlin:20201104T175000
DTEND;TZID=Europe/Berlin:20201104T193000
DTSTAMP:20201112T132025Z
URL:https://www.romy-online.de/events/tv-ausstrahlung-schlager-kutschfahrt
 -mit-norbert-und-alexander-rier-moderation/
SUMMARY:TV-Ausstrahlung Schlager Kutschfahrt mit Norbert und Alexander Rier
  - Moderation
DESCRIPTION:
CATEGORIES:TV-Auftritt
LOCATION:Deutsches Musik Fernsehen\, Deutsches Musik Fernsehen\, Shop 24\, 
 Deutschland
X-APPLE-STRUCTURED-LOCATION;VALUE=URI;X-ADDRESS=Deutsches Musik Fernsehen\,
  Shop 24\, Deutschland;X-APPLE-RADIUS=100;X-TITLE=Deutsches Musik Fernsehe
 n:geo:0,0
END:VEVENT
BEGIN:VTIMEZONE
TZID:Europe/Berlin
X-LIC-LOCATION:Europe/Berlin
BEGIN:STANDARD
DTSTART:20201025T020000
TZOFFSETFROM:+0200
TZOFFSETTO:+0100
TZNAME:CET
END:STANDARD
END:VTIMEZONE
END:VCALENDAR