BEGIN:VCALENDAR
VERSION:2.0
PRODID:-//wp-events-plugin.com//7.2.3.1//EN
TZID:Europe/Berlin
X-WR-TIMEZONE:Europe/Berlin
BEGIN:VEVENT
UID:1412@romy-online.de
DTSTART;TZID=Europe/Berlin:20201031T180000
DTEND;TZID=Europe/Berlin:20201031T183000
DTSTAMP:20201127T130848Z
URL:https://www.romy-online.de/events/stars-um-6-gina-de-lamore-moderation
 /
SUMMARY:Stars um 6 - Gina de l'Amore Moderation
DESCRIPTION:
CATEGORIES:Live-/TV-Auftritt
LOCATION:Instagram - Live\, Schlager für alle\, Schlager für alle\, Deuts
 chland
X-APPLE-STRUCTURED-LOCATION;VALUE=URI;X-ADDRESS=Schlager für alle\, Schlag
 er für alle\, Deutschland;X-APPLE-RADIUS=100;X-TITLE=Instagram - Live:geo
 :0,0
END:VEVENT
BEGIN:VTIMEZONE
TZID:Europe/Berlin
X-LIC-LOCATION:Europe/Berlin
BEGIN:STANDARD
DTSTART:20201025T020000
TZOFFSETFROM:+0200
TZOFFSETTO:+0100
TZNAME:CET
END:STANDARD
END:VTIMEZONE
END:VCALENDAR