BEGIN:VCALENDAR
VERSION:2.0
PRODID:-//wp-events-plugin.com//7.2.3.1//EN
TZID:Europe/Berlin
X-WR-TIMEZONE:Europe/Berlin
BEGIN:VEVENT
UID:1338@romy-online.de
DTSTART;TZID=Europe/Berlin:20200530T200000
DTEND;TZID=Europe/Berlin:20200530T210000
DTSTAMP:20200422T100840Z
URL:https://www.romy-online.de/events/spieth-wensky-modenschau-moderation/
SUMMARY:Spieth & Wensky Modenschau Moderation - verschoben auf 2021
DESCRIPTION:
CATEGORIES:Live-/TV-Auftritt
LOCATION:Weinhügelfest\, Festplatz\, Fürstenzell\, Deutschland
GEO:48.5226292;13.317773999999985
X-APPLE-STRUCTURED-LOCATION;VALUE=URI;X-ADDRESS=Festplatz\, Fürstenzell\, 
 Deutschland;X-APPLE-RADIUS=100;X-TITLE=Weinhügelfest:geo:48.5226292,13.31
 7773999999985
END:VEVENT
BEGIN:VTIMEZONE
TZID:Europe/Berlin
X-LIC-LOCATION:Europe/Berlin
BEGIN:DAYLIGHT
DTSTART:20200329T030000
TZOFFSETFROM:+0100
TZOFFSETTO:+0200
TZNAME:CEST
END:DAYLIGHT
END:VTIMEZONE
END:VCALENDAR