BEGIN:VCALENDAR
VERSION:2.0
PRODID:-//wp-events-plugin.com//7.2.3.1//EN
TZID:Europe/Berlin
X-WR-TIMEZONE:Europe/Berlin
BEGIN:VEVENT
UID:1355@romy-online.de
DTSTART;TZID=Europe/Berlin:20200504T200000
DTEND;TZID=Europe/Berlin:20200504T204500
DTSTAMP:20200325T064840Z
URL:https://www.romy-online.de/events/spieth-wensky-modenschau-moderation-
 abgesagt/
SUMMARY:Spieth & Wensky Modenschau Moderation - abgesagt
DESCRIPTION:
CATEGORIES:Live-/TV-Auftritt
LOCATION:Maidult\, Dreiländerhalle\, Passau\, Deutschland
X-APPLE-STRUCTURED-LOCATION;VALUE=URI;X-ADDRESS=Dreiländerhalle\, Passau\,
  Deutschland;X-APPLE-RADIUS=100;X-TITLE=Maidult:geo:0,0
END:VEVENT
BEGIN:VTIMEZONE
TZID:Europe/Berlin
X-LIC-LOCATION:Europe/Berlin
BEGIN:DAYLIGHT
DTSTART:20200329T030000
TZOFFSETFROM:+0100
TZOFFSETTO:+0200
TZNAME:CEST
END:DAYLIGHT
END:VTIMEZONE
END:VCALENDAR