BEGIN:VCALENDAR
VERSION:2.0
PRODID:-//wp-events-plugin.com//7.2.3.1//EN
TZID:Europe/Berlin
X-WR-TIMEZONE:Europe/Berlin
BEGIN:VEVENT
UID:1258@romy-online.de
DTSTART;TZID=Europe/Berlin;VALUE=DATE:20190901
DTEND;TZID=Europe/Berlin;VALUE=DATE:20190902
DTSTAMP:20190725T142705Z
URL:https://www.romy-online.de/events/spielervorstellung-dsc/
SUMMARY:Spielervorstellung DSC
DESCRIPTION:Moderation
CATEGORIES:Live-/TV-Auftritt
LOCATION:Eisstadion\, Deggendorf\, Deggendorf\, Deutschland
X-APPLE-STRUCTURED-LOCATION;VALUE=URI;X-ADDRESS=Deggendorf\, Deggendorf\, D
 eutschland;X-APPLE-RADIUS=100;X-TITLE=Eisstadion:geo:0,0
END:VEVENT
BEGIN:VTIMEZONE
TZID:Europe/Berlin
X-LIC-LOCATION:Europe/Berlin
BEGIN:DAYLIGHT
DTSTART:20190331T030000
TZOFFSETFROM:+0100
TZOFFSETTO:+0200
TZNAME:CEST
END:DAYLIGHT
END:VTIMEZONE
END:VCALENDAR