BEGIN:VCALENDAR
VERSION:2.0
PRODID:-//wp-events-plugin.com//7.2.3.1//EN
TZID:Europe/Berlin
X-WR-TIMEZONE:Europe/Berlin
BEGIN:VEVENT
UID:1225@romy-online.de
DTSTART;TZID=Europe/Berlin:20190528T193000
DTEND;TZID=Europe/Berlin:20190528T213000
DTSTAMP:20190103T183551Z
URL:https://www.romy-online.de/events/rund-um-gsund-in-bad-fuessing/
SUMMARY:Rund um Gsund in Bad Füssing
DESCRIPTION:
CATEGORIES:Live-/TV-Auftritt
LOCATION:Kleiner Kursaal\, Kurplatz\, Bad Füssing\, Deutschland
GEO:53.7045402;7.14438240000004
X-APPLE-STRUCTURED-LOCATION;VALUE=URI;X-ADDRESS=Kurplatz\, Bad Füssing\, D
 eutschland;X-APPLE-RADIUS=100;X-TITLE=Kleiner Kursaal:geo:53.7045402,7.144
 38240000004
END:VEVENT
BEGIN:VTIMEZONE
TZID:Europe/Berlin
X-LIC-LOCATION:Europe/Berlin
BEGIN:DAYLIGHT
DTSTART:20190331T030000
TZOFFSETFROM:+0100
TZOFFSETTO:+0200
TZNAME:CEST
END:DAYLIGHT
END:VTIMEZONE
END:VCALENDAR