BEGIN:VCALENDAR
VERSION:2.0
PRODID:-//wp-events-plugin.com//7.2.3.1//EN
TZID:Europe/Berlin
X-WR-TIMEZONE:Europe/Berlin
BEGIN:VEVENT
UID:1987@romy-online.de
DTSTART;TZID=Europe/Berlin:20260509T200000
DTEND;TZID=Europe/Berlin:20260509T230000
DTSTAMP:20250708T192028Z
URL:https://www.romy-online.de/events/romy-bergkristall/
SUMMARY:Romy & Bergkristall
DESCRIPTION:
CATEGORIES:Live-/TV-Auftritt
LOCATION:Langfurth\, Langfurth\, Langfurth\, Deutschland
X-APPLE-STRUCTURED-LOCATION;VALUE=URI;X-ADDRESS=Langfurth\, Langfurth\, Deu
 tschland;X-APPLE-RADIUS=100;X-TITLE=Langfurth:geo:0,0
END:VEVENT
BEGIN:VTIMEZONE
TZID:Europe/Berlin
X-LIC-LOCATION:Europe/Berlin
BEGIN:DAYLIGHT
DTSTART:20260329T030000
TZOFFSETFROM:+0100
TZOFFSETTO:+0200
TZNAME:CEST
END:DAYLIGHT
END:VTIMEZONE
END:VCALENDAR