BEGIN:VCALENDAR
VERSION:2.0
PRODID:-//wp-events-plugin.com//7.2.3.1//EN
TZID:Europe/Berlin
X-WR-TIMEZONE:Europe/Berlin
BEGIN:VEVENT
UID:1451@romy-online.de
DTSTART;TZID=Europe/Berlin:20210110T080000
DTEND;TZID=Europe/Berlin:20210110T100000
DTSTAMP:20210101T135905Z
URL:https://www.romy-online.de/events/radio-isw-am-sonntag-moderation/
SUMMARY:Radio ISW am Sonntag (Moderation)
DESCRIPTION:
CATEGORIES:Radio
LOCATION:Radio Inn-Salzach-Welle\, Radio ISW\, Radio ISWplus\, Deutschland
X-APPLE-STRUCTURED-LOCATION;VALUE=URI;X-ADDRESS=Radio ISW\, Radio ISWplus\,
  Deutschland;X-APPLE-RADIUS=100;X-TITLE=Radio Inn-Salzach-Welle:geo:0,0
END:VEVENT
BEGIN:VTIMEZONE
TZID:Europe/Berlin
X-LIC-LOCATION:Europe/Berlin
BEGIN:STANDARD
DTSTART:20201025T020000
TZOFFSETFROM:+0200
TZOFFSETTO:+0100
TZNAME:CET
END:STANDARD
END:VTIMEZONE
END:VCALENDAR