BEGIN:VCALENDAR
VERSION:2.0
PRODID:-//wp-events-plugin.com//7.2.3.1//EN
TZID:Europe/Berlin
X-WR-TIMEZONE:Europe/Berlin
BEGIN:VEVENT
UID:1238@romy-online.de
DTSTART;TZID=Europe/Berlin:20191127T140000
DTEND;TZID=Europe/Berlin:20191127T170000
DTSTAMP:20190103T190205Z
URL:https://www.romy-online.de/events/musiknachmittag-5/
SUMMARY:Musiknachmittag
DESCRIPTION:
CATEGORIES:Live-/TV-Auftritt
LOCATION:Sittichenbach\, Sittichenbach\, Sittichenbach\, Deutschland
GEO:51.4636028;11.51636719999999
X-APPLE-STRUCTURED-LOCATION;VALUE=URI;X-ADDRESS=Sittichenbach\, Sittichenba
 ch\, Deutschland;X-APPLE-RADIUS=100;X-TITLE=Sittichenbach:geo:51.4636028,1
 1.51636719999999
END:VEVENT
BEGIN:VTIMEZONE
TZID:Europe/Berlin
X-LIC-LOCATION:Europe/Berlin
BEGIN:STANDARD
DTSTART:20191027T020000
TZOFFSETFROM:+0200
TZOFFSETTO:+0100
TZNAME:CET
END:STANDARD
END:VTIMEZONE
END:VCALENDAR