BEGIN:VCALENDAR
VERSION:2.0
PRODID:-//wp-events-plugin.com//7.2.3.1//EN
TZID:Europe/Berlin
X-WR-TIMEZONE:Europe/Berlin
BEGIN:VEVENT
UID:1333@romy-online.de
DTSTART;TZID=Europe/Berlin;VALUE=DATE:20200321
DTEND;TZID=Europe/Berlin;VALUE=DATE:20200329
DTSTAMP:20200325T064239Z
URL:https://www.romy-online.de/events/msc-kreuzfahrt-karibik-tv-dreh/
SUMMARY:MSC Kreuzfahrt Karibik TV-Dreh - abgesagt
DESCRIPTION:
CATEGORIES:TV-Auftritt
LOCATION:MSC\, Karibik\, Karibik\, Deutschland
X-APPLE-STRUCTURED-LOCATION;VALUE=URI;X-ADDRESS=Karibik\, Karibik\, Deutsch
 land;X-APPLE-RADIUS=100;X-TITLE=MSC:geo:0,0
END:VEVENT
BEGIN:VTIMEZONE
TZID:Europe/Berlin
X-LIC-LOCATION:Europe/Berlin
BEGIN:STANDARD
DTSTART:20191027T020000
TZOFFSETFROM:+0200
TZOFFSETTO:+0100
TZNAME:CET
END:STANDARD
END:VTIMEZONE
END:VCALENDAR