BEGIN:VCALENDAR
VERSION:2.0
PRODID:-//wp-events-plugin.com//7.2.3.1//EN
TZID:Europe/Berlin
X-WR-TIMEZONE:Europe/Berlin
BEGIN:VEVENT
UID:1330@romy-online.de
DTSTART;TZID=Europe/Berlin:20200212T190000
DTEND;TZID=Europe/Berlin:20200212T210000
DTSTAMP:20191214T202156Z
URL:https://www.romy-online.de/events/moderation-ehrung-landkreis-rottal-i
 nn/
SUMMARY:Moderation Ehrung Landkreis Rottal-Inn
DESCRIPTION:
CATEGORIES:Live-/TV-Auftritt
LOCATION:geschlossene Gesellschaft\, Theater an der Rott \, Eggenfelden\, W
 ählen Sie eine Region\, 84307\, Deutschland
X-APPLE-STRUCTURED-LOCATION;VALUE=URI;X-ADDRESS=Theater an der Rott \, Egge
 nfelden\, Wählen Sie eine Region\, 84307\, Deutschland;X-APPLE-RADIUS=100
 ;X-TITLE=geschlossene Gesellschaft:geo:0,0
END:VEVENT
BEGIN:VTIMEZONE
TZID:Europe/Berlin
X-LIC-LOCATION:Europe/Berlin
BEGIN:STANDARD
DTSTART:20191027T020000
TZOFFSETFROM:+0200
TZOFFSETTO:+0100
TZNAME:CET
END:STANDARD
END:VTIMEZONE
END:VCALENDAR