BEGIN:VCALENDAR
VERSION:2.0
PRODID:-//wp-events-plugin.com//7.2.3.1//EN
TZID:Europe/Berlin
X-WR-TIMEZONE:Europe/Berlin
BEGIN:VEVENT
UID:1331@romy-online.de
DTSTART;TZID=Europe/Berlin:20200220T190000
DTEND;TZID=Europe/Berlin:20200220T220000
DTSTAMP:20191214T202254Z
URL:https://www.romy-online.de/events/mit-stars-auf-du-und-du/
SUMMARY:Mit Stars auf Du und Du
DESCRIPTION:
CATEGORIES:Live-/TV-Auftritt
LOCATION:Hotel Mariandl - Zum singenden Wirt\, Azoplatz\, Elisabethszell\, 
 Deutschland
GEO:49.0268836;12.750130500000068
X-APPLE-STRUCTURED-LOCATION;VALUE=URI;X-ADDRESS=Azoplatz\, Elisabethszell\,
  Deutschland;X-APPLE-RADIUS=100;X-TITLE=Hotel Mariandl - Zum singenden Wir
 t:geo:49.0268836,12.750130500000068
END:VEVENT
BEGIN:VTIMEZONE
TZID:Europe/Berlin
X-LIC-LOCATION:Europe/Berlin
BEGIN:STANDARD
DTSTART:20191027T020000
TZOFFSETFROM:+0200
TZOFFSETTO:+0100
TZNAME:CET
END:STANDARD
END:VTIMEZONE
END:VCALENDAR