BEGIN:VCALENDAR
VERSION:2.0
PRODID:-//wp-events-plugin.com//7.2.3.1//EN
TZID:Europe/Berlin
X-WR-TIMEZONE:Europe/Berlin
BEGIN:VEVENT
UID:1463@romy-online.de
DTSTART;TZID=Europe/Berlin:20210523T120000
DTEND;TZID=Europe/Berlin:20210523T170000
DTSTAMP:20220218T090411Z
URL:https://www.romy-online.de/events/megaparty-der-volksmusik-mit-inka-ba
 use-moderation/
SUMMARY:Megaparty der Volksmusik mit Inka Bause (Moderation) verschoben
DESCRIPTION:
CATEGORIES:Live-/TV-Auftritt
LOCATION:Waldbühne\, Schönborn\, Schönborn\, Deutschland
GEO:49.21006990000001;8.654468500000007
X-APPLE-STRUCTURED-LOCATION;VALUE=URI;X-ADDRESS=Schönborn\, Schönborn\, D
 eutschland;X-APPLE-RADIUS=100;X-TITLE=Waldbühne:geo:49.21006990000001,8.6
 54468500000007
END:VEVENT
BEGIN:VTIMEZONE
TZID:Europe/Berlin
X-LIC-LOCATION:Europe/Berlin
BEGIN:DAYLIGHT
DTSTART:20210328T030000
TZOFFSETFROM:+0100
TZOFFSETTO:+0200
TZNAME:CEST
END:DAYLIGHT
END:VTIMEZONE
END:VCALENDAR