BEGIN:VCALENDAR
VERSION:2.0
PRODID:-//wp-events-plugin.com//7.2.3.1//EN
TZID:Europe/Berlin
X-WR-TIMEZONE:Europe/Berlin
BEGIN:VEVENT
UID:1227@romy-online.de
DTSTART;TZID=Europe/Berlin:20190615T190000
DTEND;TZID=Europe/Berlin:20190615T230000
DTSTAMP:20190103T184126Z
URL:https://www.romy-online.de/events/jubilaeum-kreuzberger-trio/
SUMMARY:Jubiläum Kreuzberger Trio
DESCRIPTION:
CATEGORIES:Live-/TV-Auftritt
LOCATION:Freyung\, Freyung\, Freyung\, Deutschland
X-APPLE-STRUCTURED-LOCATION;VALUE=URI;X-ADDRESS=Freyung\, Freyung\, Deutsch
 land;X-APPLE-RADIUS=100;X-TITLE=Freyung:geo:0,0
END:VEVENT
BEGIN:VTIMEZONE
TZID:Europe/Berlin
X-LIC-LOCATION:Europe/Berlin
BEGIN:DAYLIGHT
DTSTART:20190331T030000
TZOFFSETFROM:+0100
TZOFFSETTO:+0200
TZNAME:CEST
END:DAYLIGHT
END:VTIMEZONE
END:VCALENDAR