BEGIN:VCALENDAR
VERSION:2.0
PRODID:-//wp-events-plugin.com//7.2.3.1//EN
TZID:Europe/Berlin
X-WR-TIMEZONE:Europe/Berlin
BEGIN:VEVENT
UID:1224@romy-online.de
DTSTART;TZID=Europe/Berlin:20190426T190000
DTEND;TZID=Europe/Berlin:20190426T220000
DTSTAMP:20190103T183448Z
URL:https://www.romy-online.de/events/herzlichst-starabend/
SUMMARY:Herzlichst Starabend
DESCRIPTION:
CATEGORIES:Live-/TV-Auftritt
LOCATION:Hotel Mariandl - Zum singenden Wirt\, Azoplatz\, Elisabethszell\, 
 Deutschland
GEO:49.0268836;12.750130500000068
X-APPLE-STRUCTURED-LOCATION;VALUE=URI;X-ADDRESS=Azoplatz\, Elisabethszell\,
  Deutschland;X-APPLE-RADIUS=100;X-TITLE=Hotel Mariandl - Zum singenden Wir
 t:geo:49.0268836,12.750130500000068
END:VEVENT
BEGIN:VTIMEZONE
TZID:Europe/Berlin
X-LIC-LOCATION:Europe/Berlin
BEGIN:DAYLIGHT
DTSTART:20190331T030000
TZOFFSETFROM:+0100
TZOFFSETTO:+0200
TZNAME:CEST
END:DAYLIGHT
END:VTIMEZONE
END:VCALENDAR