BEGIN:VCALENDAR
VERSION:2.0
PRODID:-//wp-events-plugin.com//7.2.3.1//EN
TZID:Europe/Berlin
X-WR-TIMEZONE:Europe/Berlin
BEGIN:VEVENT
UID:1249@romy-online.de
DTSTART;TZID=Europe/Berlin:20190830T170000
DTEND;TZID=Europe/Berlin:20190830T220000
DTSTAMP:20190309T120604Z
URL:https://www.romy-online.de/events/gipfeltreffen-2/
SUMMARY:Gipfeltreffen
DESCRIPTION:
CATEGORIES:Live-/TV-Auftritt
LOCATION:Boutique Barbaras\, Ruhrplatz\, Bochum\, Deutschland
GEO:51.44897719999999;7.170576200000028
X-APPLE-STRUCTURED-LOCATION;VALUE=URI;X-ADDRESS=Ruhrplatz\, Bochum\, Deutsc
 hland;X-APPLE-RADIUS=100;X-TITLE=Boutique Barbaras:geo:51.44897719999999,7
 .170576200000028
END:VEVENT
BEGIN:VTIMEZONE
TZID:Europe/Berlin
X-LIC-LOCATION:Europe/Berlin
BEGIN:DAYLIGHT
DTSTART:20190331T030000
TZOFFSETFROM:+0100
TZOFFSETTO:+0200
TZNAME:CEST
END:DAYLIGHT
END:VTIMEZONE
END:VCALENDAR