BEGIN:VCALENDAR
VERSION:2.0
PRODID:-//wp-events-plugin.com//7.2.3.1//EN
TZID:Europe/Berlin
X-WR-TIMEZONE:Europe/Berlin
BEGIN:VEVENT
UID:1291@romy-online.de
DTSTART;TZID=Europe/Berlin:20191223T210000
DTEND;TZID=Europe/Berlin:20191223T233000
DTSTAMP:20191214T200743Z
URL:https://www.romy-online.de/events/geschlossene-veranstaltung-5/
SUMMARY:geschlossene Veranstaltung
DESCRIPTION:
CATEGORIES:Live-/TV-Auftritt
LOCATION:geschlossene Veranstaltung\, -\, -\, Deutschland
GEO:51.165691;10.451526000000058
X-APPLE-STRUCTURED-LOCATION;VALUE=URI;X-ADDRESS=-\, -\, Deutschland;X-APPLE
 -RADIUS=100;X-TITLE=geschlossene Veranstaltung:geo:51.165691,10.4515260000
 00058
END:VEVENT
BEGIN:VTIMEZONE
TZID:Europe/Berlin
X-LIC-LOCATION:Europe/Berlin
BEGIN:STANDARD
DTSTART:20191027T020000
TZOFFSETFROM:+0200
TZOFFSETTO:+0100
TZNAME:CET
END:STANDARD
END:VTIMEZONE
END:VCALENDAR