BEGIN:VCALENDAR
VERSION:2.0
PRODID:-//wp-events-plugin.com//7.2.3.1//EN
TZID:Europe/Berlin
X-WR-TIMEZONE:Europe/Berlin
BEGIN:VEVENT
UID:1264@romy-online.de
DTSTART;TZID=Europe/Berlin:20191114T193000
DTEND;TZID=Europe/Berlin:20191114T220000
DTSTAMP:20190725T143306Z
URL:https://www.romy-online.de/events/gala-3/
SUMMARY:Gala
DESCRIPTION:Moderation
CATEGORIES:Live-/TV-Auftritt
LOCATION:Großer Kursaal\, Kurplatz\, Bad Füssing\, Deutschland
GEO:48.35214209999999;13.317376100000046
X-APPLE-STRUCTURED-LOCATION;VALUE=URI;X-ADDRESS=Kurplatz\, Bad Füssing\, D
 eutschland;X-APPLE-RADIUS=100;X-TITLE=Großer Kursaal:geo:48.3521420999999
 9,13.317376100000046
END:VEVENT
BEGIN:VTIMEZONE
TZID:Europe/Berlin
X-LIC-LOCATION:Europe/Berlin
BEGIN:STANDARD
DTSTART:20191027T020000
TZOFFSETFROM:+0200
TZOFFSETTO:+0100
TZNAME:CET
END:STANDARD
END:VTIMEZONE
END:VCALENDAR