BEGIN:VCALENDAR
VERSION:2.0
PRODID:-//wp-events-plugin.com//7.2.3.1//EN
TZID:Europe/Berlin
X-WR-TIMEZONE:Europe/Berlin
BEGIN:VEVENT
UID:1277@romy-online.de
DTSTART;TZID=Europe/Berlin;VALUE=DATE:20191210
DTEND;TZID=Europe/Berlin;VALUE=DATE:20191211
DTSTAMP:20190916T162911Z
URL:https://www.romy-online.de/events/firmenfeier/
SUMMARY:Firmenfeier
DESCRIPTION:
CATEGORIES:Live-/TV-Auftritt
LOCATION:Erlebnisland Eurostrand\, Resort Moseltal\, Leiwen\, Deutschland
X-APPLE-STRUCTURED-LOCATION;VALUE=URI;X-ADDRESS=Resort Moseltal\, Leiwen\, 
 Deutschland;X-APPLE-RADIUS=100;X-TITLE=Erlebnisland Eurostrand:geo:0,0
END:VEVENT
BEGIN:VTIMEZONE
TZID:Europe/Berlin
X-LIC-LOCATION:Europe/Berlin
BEGIN:STANDARD
DTSTART:20191027T020000
TZOFFSETFROM:+0200
TZOFFSETTO:+0100
TZNAME:CET
END:STANDARD
END:VTIMEZONE
END:VCALENDAR