BEGIN:VCALENDAR
VERSION:2.0
PRODID:-//wp-events-plugin.com//7.2.3.1//EN
TZID:Europe/Berlin
X-WR-TIMEZONE:Europe/Berlin
BEGIN:VEVENT
UID:1270@romy-online.de
DTSTART;TZID=Europe/Berlin:20190607T190000
DTEND;TZID=Europe/Berlin:20190607T230000
DTSTAMP:20190725T144259Z
URL:https://www.romy-online.de/events/firmen-sommerfest-moderation/
SUMMARY:Firmen-Sommerfest Moderation
DESCRIPTION:
CATEGORIES:Live-/TV-Auftritt
LOCATION:geschlossene Veranstaltung\, -\, -\, Deutschland
GEO:51.165691;10.451526000000058
X-APPLE-STRUCTURED-LOCATION;VALUE=URI;X-ADDRESS=-\, -\, Deutschland;X-APPLE
 -RADIUS=100;X-TITLE=geschlossene Veranstaltung:geo:51.165691,10.4515260000
 00058
END:VEVENT
BEGIN:VTIMEZONE
TZID:Europe/Berlin
X-LIC-LOCATION:Europe/Berlin
BEGIN:DAYLIGHT
DTSTART:20190331T030000
TZOFFSETFROM:+0100
TZOFFSETTO:+0200
TZNAME:CEST
END:DAYLIGHT
END:VTIMEZONE
END:VCALENDAR