BEGIN:VCALENDAR
VERSION:2.0
PRODID:-//wp-events-plugin.com//7.2.3.1//EN
TZID:Europe/Berlin
X-WR-TIMEZONE:Europe/Berlin
BEGIN:VEVENT
UID:1391@romy-online.de
DTSTART;TZID=Europe/Berlin;VALUE=DATE:20201012
DTEND;TZID=Europe/Berlin;VALUE=DATE:20201013
DTSTAMP:20201023T074628Z
URL:https://www.romy-online.de/events/eroeffnung-festwoche-abgesagt/
SUMMARY:Eröffnung Festwoche - ABGESAGT
DESCRIPTION:
CATEGORIES:Live-/TV-Auftritt
LOCATION:Parkwohnstift Mehrgenerationenhaus\, Arnstorf\, Arnstorf\, Deutsch
 land
GEO:48.55804089999999;12.817826800000034
X-APPLE-STRUCTURED-LOCATION;VALUE=URI;X-ADDRESS=Arnstorf\, Arnstorf\, Deuts
 chland;X-APPLE-RADIUS=100;X-TITLE=Parkwohnstift Mehrgenerationenhaus:geo:4
 8.55804089999999,12.817826800000034
END:VEVENT
BEGIN:VTIMEZONE
TZID:Europe/Berlin
X-LIC-LOCATION:Europe/Berlin
BEGIN:DAYLIGHT
DTSTART:20200329T030000
TZOFFSETFROM:+0100
TZOFFSETTO:+0200
TZNAME:CEST
END:DAYLIGHT
END:VTIMEZONE
END:VCALENDAR