BEGIN:VCALENDAR
VERSION:2.0
PRODID:-//wp-events-plugin.com//7.2.3.1//EN
TZID:Europe/Berlin
X-WR-TIMEZONE:Europe/Berlin
BEGIN:VEVENT
UID:1390@romy-online.de
DTSTART;TZID=Europe/Berlin:20201001T100000
DTEND;TZID=Europe/Berlin:20201001T110000
DTSTAMP:20201023T074522Z
URL:https://www.romy-online.de/events/einweihung-spieth-wensky-filiale-pas
 sau/
SUMMARY:Einweihung Spieth & Wensky Filiale Passau
DESCRIPTION:
CATEGORIES:Live-/TV-Auftritt
LOCATION:Spieth & Wensky Tracht\, Passau\, Passau\, Deutschland
X-APPLE-STRUCTURED-LOCATION;VALUE=URI;X-ADDRESS=Passau\, Passau\, Deutschla
 nd;X-APPLE-RADIUS=100;X-TITLE=Spieth & Wensky Tracht:geo:0,0
END:VEVENT
BEGIN:VTIMEZONE
TZID:Europe/Berlin
X-LIC-LOCATION:Europe/Berlin
BEGIN:DAYLIGHT
DTSTART:20200329T030000
TZOFFSETFROM:+0100
TZOFFSETTO:+0200
TZNAME:CEST
END:DAYLIGHT
END:VTIMEZONE
END:VCALENDAR