BEGIN:VCALENDAR
VERSION:2.0
PRODID:-//wp-events-plugin.com//7.2.3.1//EN
TZID:Europe/Berlin
X-WR-TIMEZONE:Europe/Berlin
BEGIN:VEVENT
UID:1274@romy-online.de
DTSTART;TZID=Europe/Berlin:20190704T190000
DTEND;TZID=Europe/Berlin:20190704T213000
DTSTAMP:20190725T144732Z
URL:https://www.romy-online.de/events/ehrenamtskarten-verleihung-landkreis
 -rottal-inn/
SUMMARY:Ehrenamtskarten-Verleihung Landkreis Rottal-Inn
DESCRIPTION:Moderation
CATEGORIES:Live-/TV-Auftritt
LOCATION:Theater an der Rott\, Pfarrkirchner Str.\, 84307\, Deutschland
GEO:48.4049221;12.770802799999955
X-APPLE-STRUCTURED-LOCATION;VALUE=URI;X-ADDRESS=Pfarrkirchner Str.\, 84307\
 , Deutschland;X-APPLE-RADIUS=100;X-TITLE=Theater an der Rott:geo:48.404922
 1,12.770802799999955
END:VEVENT
BEGIN:VTIMEZONE
TZID:Europe/Berlin
X-LIC-LOCATION:Europe/Berlin
BEGIN:DAYLIGHT
DTSTART:20190331T030000
TZOFFSETFROM:+0100
TZOFFSETTO:+0200
TZNAME:CEST
END:DAYLIGHT
END:VTIMEZONE
END:VCALENDAR