BEGIN:VCALENDAR
VERSION:2.0
PRODID:-//wp-events-plugin.com//7.2.3.1//EN
TZID:Europe/Berlin
X-WR-TIMEZONE:Europe/Berlin
BEGIN:VEVENT
UID:1986@romy-online.de
DTSTART;TZID=Europe/Berlin:20260513T150000
DTEND;TZID=Europe/Berlin:20260513T180000
DTSTAMP:20250708T191835Z
URL:https://www.romy-online.de/events/das-ladiner-fest-unterwegs-zum-mutte
 rtag-9/
SUMMARY:Das Ladiner Fest unterwegs zum Muttertag
DESCRIPTION:https://www.eventim.de/artist/das-grosse-ladiner-festival/?affi
 liate=GMD Hier Karten sichern!
CATEGORIES:Live-/TV-Auftritt
LOCATION:Stadthalle\, 09496\, Marienberg\, Deutschland
GEO:50.60886439999999;13.184678299999973
X-APPLE-STRUCTURED-LOCATION;VALUE=URI;X-ADDRESS=09496\, Marienberg\, Deutsc
 hland;X-APPLE-RADIUS=100;X-TITLE=Stadthalle:geo:50.60886439999999,13.18467
 8299999973
END:VEVENT
BEGIN:VTIMEZONE
TZID:Europe/Berlin
X-LIC-LOCATION:Europe/Berlin
BEGIN:DAYLIGHT
DTSTART:20260329T030000
TZOFFSETFROM:+0100
TZOFFSETTO:+0200
TZNAME:CEST
END:DAYLIGHT
END:VTIMEZONE
END:VCALENDAR