BEGIN:VCALENDAR
VERSION:2.0
PRODID:-//wp-events-plugin.com//7.2.3.1//EN
TZID:Europe/Berlin
X-WR-TIMEZONE:Europe/Berlin
BEGIN:VEVENT
UID:1980@romy-online.de
DTSTART;TZID=Europe/Berlin:20260507T150000
DTEND;TZID=Europe/Berlin:20260507T180000
DTSTAMP:20250708T191053Z
URL:https://www.romy-online.de/events/das-ladiner-fest-unterwegs-zum-mutte
 rtag-3/
SUMMARY:Das Ladiner Fest unterwegs zum Muttertag
DESCRIPTION:https://www.eventim.de/artist/das-grosse-ladiner-festival/?affi
 liate=GMD Hier Karten sichern!
CATEGORIES:Live-/TV-Auftritt
LOCATION:Haus des Gastes\, Falkenberg/Elster\, Falkenberg/Elster\, Deutschl
 and
X-APPLE-STRUCTURED-LOCATION;VALUE=URI;X-ADDRESS=Falkenberg/Elster\, Falkenb
 erg/Elster\, Deutschland;X-APPLE-RADIUS=100;X-TITLE=Haus des Gastes:geo:0,
 0
END:VEVENT
BEGIN:VTIMEZONE
TZID:Europe/Berlin
X-LIC-LOCATION:Europe/Berlin
BEGIN:DAYLIGHT
DTSTART:20260329T030000
TZOFFSETFROM:+0100
TZOFFSETTO:+0200
TZNAME:CEST
END:DAYLIGHT
END:VTIMEZONE
END:VCALENDAR