BEGIN:VCALENDAR
VERSION:2.0
PRODID:-//wp-events-plugin.com//7.2.3.1//EN
TZID:Europe/Berlin
X-WR-TIMEZONE:Europe/Berlin
BEGIN:VEVENT
UID:1334@romy-online.de
DTSTART;TZID=Europe/Berlin:20200403T150000
DTEND;TZID=Europe/Berlin:20200403T180000
DTSTAMP:20200325T064324Z
URL:https://www.romy-online.de/events/biersaison-eroeffnung-moderation/
SUMMARY:Biersaison Eröffnung Moderation - abgesagt
DESCRIPTION:
CATEGORIES:Live-/TV-Auftritt
LOCATION:Kurplatz Bad Füssing\, Kurplatz\, Bad Füssing\, Bayern\, 94072\,
  Deutschland
GEO:48.35214209999999;13.317376100000047
X-APPLE-STRUCTURED-LOCATION;VALUE=URI;X-ADDRESS=Kurplatz\, Bad Füssing\, B
 ayern\, 94072\, Deutschland;X-APPLE-RADIUS=100;X-TITLE=Kurplatz Bad Füssi
 ng:geo:48.35214209999999,13.317376100000047
END:VEVENT
BEGIN:VTIMEZONE
TZID:Europe/Berlin
X-LIC-LOCATION:Europe/Berlin
BEGIN:DAYLIGHT
DTSTART:20200329T030000
TZOFFSETFROM:+0100
TZOFFSETTO:+0200
TZNAME:CEST
END:DAYLIGHT
END:VTIMEZONE
END:VCALENDAR