BEGIN:VCALENDAR
VERSION:2.0
PRODID:-//wp-events-plugin.com//7.2.3.1//EN
TZID:Europe/Berlin
X-WR-TIMEZONE:Europe/Berlin
BEGIN:VEVENT
UID:1348@romy-online.de
DTSTART;TZID=Europe/Berlin:20201226T193000
DTEND;TZID=Europe/Berlin:20201226T220000
DTSTAMP:20201022T095128Z
URL:https://www.romy-online.de/events/bad-fuessinger-weihnachtsgala-2/
SUMMARY:Bad Füssinger Weihnachtsgala - ABGESAGT
DESCRIPTION:
CATEGORIES:Live-/TV-Auftritt
LOCATION:Großer Kursaal\, Kurplatz\, Bad Füssing\, Deutschland
X-APPLE-STRUCTURED-LOCATION;VALUE=URI;X-ADDRESS=Kurplatz\, Bad Füssing\, D
 eutschland;X-APPLE-RADIUS=100;X-TITLE=Großer Kursaal:geo:0,0
END:VEVENT
BEGIN:VTIMEZONE
TZID:Europe/Berlin
X-LIC-LOCATION:Europe/Berlin
BEGIN:STANDARD
DTSTART:20201025T020000
TZOFFSETFROM:+0200
TZOFFSETTO:+0100
TZNAME:CET
END:STANDARD
END:VTIMEZONE
END:VCALENDAR