BEGIN:VCALENDAR
VERSION:2.0
PRODID:-//wp-events-plugin.com//7.2.3.1//EN
TZID:Europe/Berlin
X-WR-TIMEZONE:Europe/Berlin
BEGIN:VEVENT
UID:1222@romy-online.de
DTSTART;TZID=Europe/Berlin:20190422T193000
DTEND;TZID=Europe/Berlin:20190422T220000
DTSTAMP:20190103T183313Z
URL:https://www.romy-online.de/events/bad-fuessinger-ostergala-2/
SUMMARY:Bad Füssinger Ostergala
DESCRIPTION:
CATEGORIES:Live-/TV-Auftritt
LOCATION:Großer Kursaal\, Kurplatz\, Bad Füssing\, Deutschland
X-APPLE-STRUCTURED-LOCATION;VALUE=URI;X-ADDRESS=Kurplatz\, Bad Füssing\, D
 eutschland;X-APPLE-RADIUS=100;X-TITLE=Großer Kursaal:geo:0,0
END:VEVENT
BEGIN:VTIMEZONE
TZID:Europe/Berlin
X-LIC-LOCATION:Europe/Berlin
BEGIN:DAYLIGHT
DTSTART:20190331T030000
TZOFFSETFROM:+0100
TZOFFSETTO:+0200
TZNAME:CEST
END:DAYLIGHT
END:VTIMEZONE
END:VCALENDAR