BEGIN:VCALENDAR
VERSION:2.0
PRODID:-//wp-events-plugin.com//7.2.3.1//EN
TZID:Europe/Berlin
X-WR-TIMEZONE:Europe/Berlin
BEGIN:VEVENT
UID:1275@romy-online.de
DTSTART;TZID=Europe/Berlin:20190717T140000
DTEND;TZID=Europe/Berlin:20190717T170000
DTSTAMP:20190725T144851Z
URL:https://www.romy-online.de/events/auf-froehlichen-donauwellen/
SUMMARY:Auf fröhlichen Donauwellen
DESCRIPTION:
CATEGORIES:Live-/TV-Auftritt
LOCATION:Donauschiff Sissi\, Passau\, Passau\, Deutschland
X-APPLE-STRUCTURED-LOCATION;VALUE=URI;X-ADDRESS=Passau\, Passau\, Deutschla
 nd;X-APPLE-RADIUS=100;X-TITLE=Donauschiff Sissi:geo:0,0
END:VEVENT
BEGIN:VTIMEZONE
TZID:Europe/Berlin
X-LIC-LOCATION:Europe/Berlin
BEGIN:DAYLIGHT
DTSTART:20190331T030000
TZOFFSETFROM:+0100
TZOFFSETTO:+0200
TZNAME:CEST
END:DAYLIGHT
END:VTIMEZONE
END:VCALENDAR